BEGIN:VCALENDAR
VERSION:2.0
PRODID:-//Workshop on Wheels Mobile Metal Lab &amp; Show · Northeast Minneapolis - ECPv6.15.18//NONSGML v1.0//EN
CALSCALE:GREGORIAN
METHOD:PUBLISH
X-WR-CALNAME:Workshop on Wheels Mobile Metal Lab &amp; Show · Northeast Minneapolis
X-ORIGINAL-URL:https://wowmobilemetallab.com
X-WR-CALDESC:Events for Workshop on Wheels Mobile Metal Lab &amp; Show · Northeast Minneapolis
REFRESH-INTERVAL;VALUE=DURATION:PT1H
X-Robots-Tag:noindex
X-PUBLISHED-TTL:PT1H
BEGIN:VTIMEZONE
TZID:America/Chicago
BEGIN:DAYLIGHT
TZOFFSETFROM:-0600
TZOFFSETTO:-0500
TZNAME:CDT
DTSTART:20200308T080000
END:DAYLIGHT
BEGIN:STANDARD
TZOFFSETFROM:-0500
TZOFFSETTO:-0600
TZNAME:CST
DTSTART:20201101T070000
END:STANDARD
BEGIN:DAYLIGHT
TZOFFSETFROM:-0600
TZOFFSETTO:-0500
TZNAME:CDT
DTSTART:20210314T080000
END:DAYLIGHT
BEGIN:STANDARD
TZOFFSETFROM:-0500
TZOFFSETTO:-0600
TZNAME:CST
DTSTART:20211107T070000
END:STANDARD
BEGIN:DAYLIGHT
TZOFFSETFROM:-0600
TZOFFSETTO:-0500
TZNAME:CDT
DTSTART:20220313T080000
END:DAYLIGHT
BEGIN:STANDARD
TZOFFSETFROM:-0500
TZOFFSETTO:-0600
TZNAME:CST
DTSTART:20221106T070000
END:STANDARD
BEGIN:DAYLIGHT
TZOFFSETFROM:-0600
TZOFFSETTO:-0500
TZNAME:CDT
DTSTART:20230312T080000
END:DAYLIGHT
BEGIN:STANDARD
TZOFFSETFROM:-0500
TZOFFSETTO:-0600
TZNAME:CST
DTSTART:20231105T070000
END:STANDARD
BEGIN:DAYLIGHT
TZOFFSETFROM:-0600
TZOFFSETTO:-0500
TZNAME:CDT
DTSTART:20240310T080000
END:DAYLIGHT
BEGIN:STANDARD
TZOFFSETFROM:-0500
TZOFFSETTO:-0600
TZNAME:CST
DTSTART:20241103T070000
END:STANDARD
BEGIN:DAYLIGHT
TZOFFSETFROM:-0600
TZOFFSETTO:-0500
TZNAME:CDT
DTSTART:20250309T080000
END:DAYLIGHT
BEGIN:STANDARD
TZOFFSETFROM:-0500
TZOFFSETTO:-0600
TZNAME:CST
DTSTART:20251102T070000
END:STANDARD
END:VTIMEZONE
BEGIN:VEVENT
DTSTART;TZID=America/Chicago:20240330T010000
DTEND;TZID=America/Chicago:20240330T160000
DTSTAMP:20260421T154734
CREATED:20240309T003711Z
LAST-MODIFIED:20240309T003711Z
UID:1903-1711760400-1711814400@wowmobilemetallab.com
SUMMARY:Cast Your Metal RBG Dissent Collar Workshop
DESCRIPTION:Every collar has a story……come and cast yours. \nInternational Women’s Month has us honoring and celebrating many women from around the globe.  In this workshop\, we are remembering Supreme Court Justice Ruth Bader Ginsburg and her history breaking accomplishments here\, in the US\, and  internationally. \nCreate your design (or choose one from the collection)\, carve into a cuttlebone mold and pour lead-free pewter to make your dissent collar sculpture\, necklace\, brooch\, bolo tie\, hat pin or what-have-you?! Ages 10+.  No experience necessary.  This workshop will be in the Casket Arts Factory (not on the WOW bus). \n“You know\, the standard robe is made for a man because it has a place for the shirt to show\, and the tie\,” Ruth Bader Ginsburg said. “So Sandra Day O’Connor and I thought it would be appropriate if we included as part of our robe something typical of a woman. So I have many\, many collars.”  RBG began to be selective with her collar choice for the day as to convey a subtle meaning\, and\, as we like to think\, about her political communication with her jabot choices. \n 
URL:https://wowmobilemetallab.com/event/cast-your-metal-rbg-dissent-collar-workshop/
LOCATION:Casket Arts Factory Building\, 1720 Northeast Madison Street\, Minneapolis\, MN\, 55413\, United States
CATEGORIES:Classes
ATTACH;FMTTYPE=image/jpeg:https://wowmobilemetallab.com/wp-content/uploads/2024/03/RBG2024-scaled.jpeg
END:VEVENT
BEGIN:VEVENT
DTSTART;TZID=America/Chicago:20231209T110000
DTEND;TZID=America/Chicago:20231209T170000
DTSTAMP:20260421T154734
CREATED:20231128T182552Z
LAST-MODIFIED:20231128T190435Z
UID:1892-1702119600-1702141200@wowmobilemetallab.com
SUMMARY:Open Casket Holiday Market
DESCRIPTION:Families and friends that pour metal together\, have more fun! \nMake + Take and Holiday Market\nCreate your own cast metal gifts or choose from an array of cast metal treasures for purchase.\nCast a small sculpture\, ornament\, amulet\, wine stopper\, pendant\, bolo tie\, cuff links or what-have-you? $15.00/all ages.\nI’m pulling out all of the molds for this one! RBG collars\, the Owl from the Chinese Bronzes exhibit at MIA\, cuttlebone castings and more. \nSculpture\, wearables and good fortune trinkets\, baubles and curios for sale from my personal collection and of course\, the WOW collection. \nHot beverages\, eats and treats for you! \nThis event will take place inside of the Casket Arts Factory building (my studio space)\, not the WOW bus.\nThe Factory building is located north of the Casket Arts Main building and west of the Carriage House.\nLook for the big Paul Bunyan on the building waving his axe. \nThe WOW thanks you for your support and love.
URL:https://wowmobilemetallab.com/event/open-casket-holiday-market/
LOCATION:Casket Arts Factory Building\, 1720 Northeast Madison Street\, Minneapolis\, MN\, 55413\, United States
CATEGORIES:Art-Object Making
ATTACH;FMTTYPE=image/jpeg:https://wowmobilemetallab.com/wp-content/uploads/2023/11/holidaymarket-scaled.jpeg
END:VEVENT
BEGIN:VEVENT
DTSTART;TZID=America/Chicago:20230219T130000
DTEND;TZID=America/Chicago:20230219T160000
DTSTAMP:20260421T154734
CREATED:20230117T172048Z
LAST-MODIFIED:20230215T230619Z
UID:1762-1676811600-1676822400@wowmobilemetallab.com
SUMMARY:New Moon Molten Metal Manifestation
DESCRIPTION:Time to awaken your fantasy and wildest imaginings with the Pisces New Moon!  The spiritual veil is thin under these moonbeams and is one of the best days of the year to tap into divine inspiration. Get quiet and listen to your inner self to receive the guidance.  And\, now is your time to start a creative or artistic venture. \n\nThe New Moon is a time to cleanse\, renew\, and rewire to bring in the new – life patterns\, visions and luck! This metal casting transformational ritual conveys an act in which we join the metaphysical with the physical and call spirit into our material lives with the creation of a personal cast metal sculpture\, amulet\, pendant\, pin\, necklace\, bolo tie\, what-have-you. Cast your New Moon vision into metal and memorialize your transformation. \nIn this all hands-on\, creative and exciting class you will carve an original design (or choose from a selection of symbols and imagery) into a cuttlefish bone to create negative space. That space is filled with lead-free pewter to create your original metal casting. You pour the metal into your mold\, do finishing work with hand files and colored inks are optional. Hand-stamp a word of intention and mount your sculpture on metal/wood/stone base\, affix jewelry hardware or put it in your pocket. No experience necessary. \nCreate\, snack + sip (refreshments\, wine/beer and non-alcoholic beverages)\, converse and learn how to cast metal! \n***This class will take place INSIDE the Casket Arts Factory Building (same building as the NE Sculpture Gallery Factory).\nThe WOW bus is on winter break and will return in April! \n\n\n\n\n\n\n\n\nDecrease ticket quantity for New Moon Manifestation– \nQuantity\nIncrease ticket quantity for New Moon Manifestation+ \n\n\nGet Tickets
URL:https://wowmobilemetallab.com/event/new-moon-molten-metal-manifestation/
LOCATION:Casket Arts Factory Building\, 1720 Northeast Madison Street\, Minneapolis\, MN\, 55413\, United States
CATEGORIES:Classes
ATTACH;FMTTYPE=image/jpeg:https://wowmobilemetallab.com/wp-content/uploads/2023/01/8D77F858-237F-4566-98F2-8E3EBAA87D11-scaled.jpeg
END:VEVENT
BEGIN:VEVENT
DTSTART;TZID=America/Chicago:20230211T100000
DTEND;TZID=America/Chicago:20230211T180000
DTSTAMP:20260421T154734
CREATED:20230206T200850Z
LAST-MODIFIED:20230213T162502Z
UID:1779-1676109600-1676138400@wowmobilemetallab.com
SUMMARY:Valentine's Make + Take
DESCRIPTION:Create and cast metal WITH and/or FOR your special self\, partner\, friend\, group of friends\, family\, pet or who-have-you!?\nCome with an open heart and leave with a box of contained love of metal castings and chocolates.  Choose 2 molds\, pour lead-free pewter into your souvenir artifacts to make it a small sculpture\, pocket toy\, pendant\, pet tag\, bolo tie\, ornament\, necklace\, bracelet\, earrings\, pin\, magnet… \nAll ages will discover the “just right” casting to secretly gift another or to gift oneself! \nRegister ahead for a guaranteed spot or just show up! \nThis fun\, creative and informal Open Studio Valentine’s Casting will take place in the Casket Arts Factory Building.\n1720 Madison Street NE\, Minneapolis\, 55413 (same building as the NE Sculpture Gallery Factory) \nSnacks\, treats and beverages provided.
URL:https://wowmobilemetallab.com/event/valentines-make-take/
LOCATION:Casket Arts Factory Building\, 1720 Northeast Madison Street\, Minneapolis\, MN\, 55413\, United States
CATEGORIES:Art-Object Making
ATTACH;FMTTYPE=image/jpeg:https://wowmobilemetallab.com/wp-content/uploads/2023/02/IMG_8698.jpg
END:VEVENT
BEGIN:VEVENT
DTSTART;TZID=America/Chicago:20230121T130000
DTEND;TZID=America/Chicago:20230121T160000
DTSTAMP:20260421T154734
CREATED:20230117T162131Z
LAST-MODIFIED:20230117T165033Z
UID:1752-1674306000-1674316800@wowmobilemetallab.com
SUMMARY:New Moon Manifest with Molten Metal
DESCRIPTION:Proceed gently and ease the pressure with yourself during the Aquarius New Moon and post-retrograde Mercury and Mars phase under the dark night.  Fresh energy is here with the Aquarius New Moon! Now is a gentle time to clear cobwebs and experience clarity  – while – you plant seeds\, set intentions\, and consider all you would like to draw close to you. \nThe New Moon is a time to cleanse\, renew\, and rewire to bring in the new – life patterns\, visions and luck! This metal casting transformational ritual conveys an act in which we join the metaphysical with the physical and call spirit into our material lives with the creation of a personal cast metal sculpture\, amulet\, pendant\, pin\, necklace\, bolo tie\, what-have-you. Cast your New Moon vision into metal and memorialize your transformation. \nIn this all hands-on\, creative and exciting class you will carve an original design (or choose from a selection of symbols and imagery) into a cuttlefish bone to create negative space. That space is filled with lead-free pewter to create your original metal casting. You pour the metal into your mold\, do finishing work with hand files and colored inks are optional. Hand-stamp a word of intention and mount your sculpture on metal/wood/stone base\, affix jewelry hardware or put it in your pocket. No experience necessary. \nCreate\, snack + sip (refreshments\, wine/beer and non-alcoholic beverages)\, converse and learn how to cast metal! \n***This class will take place INSIDE the Casket Arts Factory Building (same building as the NE Sculpture Gallery Factory).\nThe WOW bus is on winter break and will return in April!
URL:https://wowmobilemetallab.com/event/new-moon-manifest-with-molten-metal/
LOCATION:Casket Arts Factory Building\, 1720 Northeast Madison Street\, Minneapolis\, MN\, 55413\, United States
CATEGORIES:Classes
ATTACH;FMTTYPE=image/jpeg:https://wowmobilemetallab.com/wp-content/uploads/2021/12/newmoonpromoimage.jpg
END:VEVENT
BEGIN:VEVENT
DTSTART;TZID=America/Chicago:20220712T180000
DTEND;TZID=America/Chicago:20220712T200000
DTSTAMP:20260421T154734
CREATED:20220608T192315Z
LAST-MODIFIED:20220608T192609Z
UID:1623-1657648800-1657656000@wowmobilemetallab.com
SUMMARY:Metal Casting with Sand Molds for Beginners
DESCRIPTION:The ancient art of sand casting can be used to create objects or art with bronze or aluminum.  Design and create your door/drawer handle\, light switch/door-bell plate\, wall hook or other ideas with plasticine clay\, found objects\, or a wood/foam pattern.  Choose bronze or aluminum to pour your mold\, and learn how to clean and treat your casting.  $5.00 per pound of finished metal will be assessed at class. \nTuesdays 6-8pm/July 12\, 14\, 19\, 21\, 26\, 28
URL:https://wowmobilemetallab.com/event/metal-casting-with-sand-molds-for-beginners/2022-07-12/
LOCATION:Casket Arts Factory Building\, 1720 Northeast Madison Street\, Minneapolis\, MN\, 55413\, United States
CATEGORIES:Classes
ATTACH;FMTTYPE=image/jpeg:https://wowmobilemetallab.com/wp-content/uploads/2022/06/IMG_0571.jpg
END:VEVENT
BEGIN:VEVENT
DTSTART;TZID=America/Chicago:20220201T180000
DTEND;TZID=America/Chicago:20220201T203000
DTSTAMP:20260421T154734
CREATED:20211229T195759Z
LAST-MODIFIED:20211229T200412Z
UID:1497-1643738400-1643747400@wowmobilemetallab.com
SUMMARY:New Moon Molten Metal Manifestation in Aquarius!
DESCRIPTION:This is a special opportunity to extend your New Year’s visions and manifest them with the February Aquarius New Moon!  Now is the time to cleanse\, renew\, and rewire to bring in the new – life patterns\, visions and luck! This metal casting transformational ritual conveys an act in which we join the metaphysical with the physical and call spirit into our material lives with the creation of a personal cast metal sculpture\, amulet\, talisman or jewelry. Cast your 2022 vision into metal and carry it with you into the new year! \nIn this all hands-on\, creative and exciting class you will carve an original design (or choose from a selection of symbols and imagery) into a cuttlefish bone to create negative space. That space is filled with lead-free pewter to create your original metal casting. You pour the metal into your mold\, do finishing work with hand files\, power tools and colored inks are optional. Mount your sculpture on metal/wood/stone base\, affix jewelry/keychain hardware or put it in your pocket. No experience necessary. \nCreate\, snack\, sip\, converse and learn how to cast metal! \nSanitized space/tools and masks required.
URL:https://wowmobilemetallab.com/event/new-moon-molten-metal-manifestation-in-aquarius/
LOCATION:Casket Arts Factory Building\, 1720 Northeast Madison Street\, Minneapolis\, MN\, 55413\, United States
CATEGORIES:Classes
ATTACH;FMTTYPE=image/jpeg:https://wowmobilemetallab.com/wp-content/uploads/2021/12/newmoonpromoimage.jpg
END:VEVENT
BEGIN:VEVENT
DTSTART;TZID=America/Chicago:20220129T130000
DTEND;TZID=America/Chicago:20220129T153000
DTSTAMP:20260421T154734
CREATED:20211229T174601Z
LAST-MODIFIED:20211229T192017Z
UID:1442-1643461200-1643470200@wowmobilemetallab.com
SUMMARY:Celebrate RBG and Share Her Story with Your Cast Metal Collar Sculpture or Pendant
DESCRIPTION:Every collar has a story…..come and cast yours.\n\n\nCreate your design (or choose one from the collection)\, carve into a cuttlebone mold\, and pour metal to make your dissent collar sculpture\, necklace\, brooch\, bolo tie or hat pin.\nThe Notorious RBG wore jabots or neck collars of lace\, rhinestones\, fabric and gold chains were symbolic and coordinated with her court ruling agreements and disagreements. Her expressive styles of nostalgic\, punk rock\, sleek and simple\, gold wings were thoughtful embellishments that reflected her values\, opinions and her stature as a female Supreme Court justice.\n\nCreate your custom collar design\, carve it out of a cuttlebone that is used as a mold \, pour lead-free pewter into it and do metal finishing work with hand tools. Choose your wearable hardware or a base to mount it on. \n\n\nThe castings are smaller than the actual collar size. The size of design needs to fit in 2″x2″. There will be template designs available for you to select from.  No experience necessary. \nThis class will be in the Casket Arts Factory (not the WOW bus)! Sanitized work space and masks required.
URL:https://wowmobilemetallab.com/event/celebrate-rbg-and-share-her-story-with-your-cast-metal-collar-sculpture-or-pendant/
LOCATION:Casket Arts Factory Building\, 1720 Northeast Madison Street\, Minneapolis\, MN\, 55413\, United States
CATEGORIES:Classes
ATTACH;FMTTYPE=image/jpeg:https://wowmobilemetallab.com/wp-content/uploads/2021/11/rbg-scaled.jpeg
END:VEVENT
BEGIN:VEVENT
DTSTART;TZID=America/Chicago:20220102T130000
DTEND;TZID=America/Chicago:20220102T153000
DTSTAMP:20260421T154734
CREATED:20211122T170148Z
LAST-MODIFIED:20211229T200953Z
UID:1410-1641128400-1641137400@wowmobilemetallab.com
SUMMARY:New Year's + New Moon Metal Casting Transformation Ritual
DESCRIPTION:This is a special opportunity to manifest your New Year’s visions on the New Moon!  Now is the time to cleanse\, renew\, and rewire to bring in the new – life patterns\, visions and luck! This metal casting transformational ritual conveys an act in which we join the metaphysical with the physical and call spirit into our material lives with the creation of a personal cast metal sculpture\, amulet\, talisman or jewelry. Cast your 2022 vision into metal and carry it with you into the new year! \nIn this all hands-on\, creative and exciting class you will carve an original design (or choose from a selection of symbols and imagery) into a cuttlefish bone to create negative space. That space is filled with lead-free pewter to create your original metal casting. You pour the metal into your mold\, do finishing work with hand files\, power tools and colored inks are optional. Mount your sculpture on metal/wood/stone base\, affix jewelry/keychain hardware or put it in your pocket. No experience necessary. \nCreate\, snack\, sip\, converse and learn how to cast metal! \nSanitized space/tools and masks required.
URL:https://wowmobilemetallab.com/event/new-years-new-moon-metal-casting-transformation-ritual/
LOCATION:Casket Arts Factory Building\, 1720 Northeast Madison Street\, Minneapolis\, MN\, 55413\, United States
CATEGORIES:Classes
ATTACH;FMTTYPE=image/jpeg:https://wowmobilemetallab.com/wp-content/uploads/2021/02/newmoonpromoimage.jpg
END:VEVENT
BEGIN:VEVENT
DTSTART;TZID=America/Chicago:20211231T180000
DTEND;TZID=America/Chicago:20211231T210000
DTSTAMP:20260421T154734
CREATED:20211209T191926Z
LAST-MODIFIED:20211229T200743Z
UID:1394-1640973600-1640984400@wowmobilemetallab.com
SUMMARY:New Year's Eve Water Casting Intention Setting + Fortune Telling
DESCRIPTION:*class takes place in the Casket Arts Factory – not the WOW Mobile Metal Lab and Show. \nManifest and predict your 2022 fortune at this magical\, spirited and shared group experience! \nPartake in the ancient culture-spanning New Year’s Eve tradition of molybdomancy –  the art of pouring lead-free pewter (previously used lead/tin) into a bowl of water to solidify into shapes and textures that hold fortunes of your 2022 year. \nYou will be given a symbolic metal casting to melt into your personal Fortune Casting.  But first you will hold in your hands while meditating on your intentions and for the molecular exchange with you and the metal to occur.  Then\, keeping  your vision close\, you will melt it in a spoon over a flame and pour it into the bowl of water. \nAfter your casting has cooled\, you will remove it and observe the shapes/textures in your hand and in the shadow that it projects on the wall.  Together\, as a group\, we consult with you and the Fortune Chart to determine your 2022 fortune. \nSelect your jewelry hardware or the right base for your Fortune Sculpture from a selection of marble\, stone\, metal and wood \nWe will be snacking\, sipping\, having fun and feeling the magic together!
URL:https://wowmobilemetallab.com/event/new-years-eve-water-casting-intention-setting-fortune-telling/
LOCATION:Casket Arts Factory Building\, 1720 Northeast Madison Street\, Minneapolis\, MN\, 55413\, United States
CATEGORIES:Classes
ATTACH;FMTTYPE=image/jpeg:https://wowmobilemetallab.com/wp-content/uploads/2021/12/Molybdomacy-scaled.jpeg
END:VEVENT
BEGIN:VEVENT
DTSTART;TZID=America/Chicago:20211218T130000
DTEND;TZID=America/Chicago:20211218T160000
DTSTAMP:20260421T154734
CREATED:20211122T193002Z
LAST-MODIFIED:20211124T174658Z
UID:1417-1639832400-1639843200@wowmobilemetallab.com
SUMMARY:Cast Your Metal Charm for Answer the Telephone Like Buddy the Elf Day!
DESCRIPTION:According to National Day Calendar\, December 18 is Answer the Telephone Like Buddy the Elf Day and encourages everyone to add some elf behavior to their day! \n“Buddy the Elf was played by Will Farrell in the 2003 movie Elf. Answering the phone like Buddy the Elf not only surprises unsuspecting callers\, but it brightens their day\, too. As your day goes along\, it will most certainly brighten yours! Who can resist a giggle or a smile when being elf-like.” \nHOW TO OBSERVE #AnswerThePhoneLikeBuddyTheElfDay\n“Simply answer the phone and say “(Insert your Name) here\, what’s your favorite color.” As you answer\, smile and spread some joy. It’s nearly impossible not to. Encourage others to do the same. If you call someone\, don’t be surprised by the elf-like voice.” \nAdditional ways to celebrate as you answer the phone include dressing up and creating your own tiny-sized cast metal elfen flare – a telephone\, ugly sweater\, stocking and more to choose from amongst the molds of the Cabinet of Curious Castings.  You can dress like an elf\, wear a Santa hat or an ugly sweater. Or\, just put on your happy face and pour metal to celebrate our otherworldly and charming elfen selves and friends. \nYou pour lead-free pewter\, do finishing work and finalize with hardware/base/color to create your sculpture\, jewelry\, ornament\, magnet\, plant charm or what-have-you? \n$10 per casting. Approximately 30-60 minutes.  Adult and kid-friendly atmosphere.  This class is in the Casket Factory Building and not in the WOW bus.  Sanitized space/tools and masks required. \nAnother way to celebrate Answer the Phone Like Buddy the Elf Day is by telling elf jokes. It’s all in the spirit of the day. Elves spread fun where ever they go.  Q: What kind of music do elves like best?  A: Wrap music!
URL:https://wowmobilemetallab.com/event/answer-the-telephone-like-buddy-the-elf-and-cast-metal-party/
LOCATION:Casket Arts Factory Building\, 1720 Northeast Madison Street\, Minneapolis\, MN\, 55413\, United States
CATEGORIES:Classes
ATTACH;FMTTYPE=image/jpeg:https://wowmobilemetallab.com/wp-content/uploads/2021/11/elfphone-scaled.jpeg
END:VEVENT
END:VCALENDAR