BEGIN:VCALENDAR
VERSION:2.0
PRODID:-//Workshop on Wheels Mobile Metal Lab &amp; Show · Northeast Minneapolis - ECPv6.15.18//NONSGML v1.0//EN
CALSCALE:GREGORIAN
METHOD:PUBLISH
X-ORIGINAL-URL:https://wowmobilemetallab.com
X-WR-CALDESC:Events for Workshop on Wheels Mobile Metal Lab &amp; Show · Northeast Minneapolis
REFRESH-INTERVAL;VALUE=DURATION:PT1H
X-Robots-Tag:noindex
X-PUBLISHED-TTL:PT1H
BEGIN:VTIMEZONE
TZID:America/Chicago
BEGIN:DAYLIGHT
TZOFFSETFROM:-0600
TZOFFSETTO:-0500
TZNAME:CDT
DTSTART:20240310T080000
END:DAYLIGHT
BEGIN:STANDARD
TZOFFSETFROM:-0500
TZOFFSETTO:-0600
TZNAME:CST
DTSTART:20241103T070000
END:STANDARD
BEGIN:DAYLIGHT
TZOFFSETFROM:-0600
TZOFFSETTO:-0500
TZNAME:CDT
DTSTART:20250309T080000
END:DAYLIGHT
BEGIN:STANDARD
TZOFFSETFROM:-0500
TZOFFSETTO:-0600
TZNAME:CST
DTSTART:20251102T070000
END:STANDARD
BEGIN:DAYLIGHT
TZOFFSETFROM:-0600
TZOFFSETTO:-0500
TZNAME:CDT
DTSTART:20260308T080000
END:DAYLIGHT
BEGIN:STANDARD
TZOFFSETFROM:-0500
TZOFFSETTO:-0600
TZNAME:CST
DTSTART:20261101T070000
END:STANDARD
END:VTIMEZONE
BEGIN:VEVENT
DTSTART;TZID=America/Chicago:20250811T100000
DTEND;TZID=America/Chicago:20250814T150000
DTSTAMP:20260423T073740
CREATED:20250623T154519Z
LAST-MODIFIED:20250624T131426Z
UID:1929-1754906400-1755183600@wowmobilemetallab.com
SUMMARY:Summer Art Intensive
DESCRIPTION:The WOW is partnering with the Edina Art Center for a four day comprehensive metal casting youth camp (ages 12-17).\nThe WOW team takes each artist through the entire process of casting metal – from safety gear to surface treatments – and demonstrates just how accessible this ancient process can be.  It’s hands-on\, interactive\, exciting\, empowering and collaborative work.  This is a fun class to experience two methods of sculpting (additive\, subtractive)\, three methods of mold-making (rubber\, cuttle-bone\, resin-bonded sand) and two metals (pewter\, aluminum). \nAugust 11 – 14\, 10am-3pm. \nRegister below on the Event Website link.\nScholarships Available through the Connect Card Program
URL:https://wowmobilemetallab.com/event/summer-art-intensive/
LOCATION:Edina Art Center\, 4701 West 64th Street\, Edina\, MN\, 55435\, United States
CATEGORIES:Classes,Education
ATTACH;FMTTYPE=image/jpeg:https://wowmobilemetallab.com/wp-content/uploads/2025/06/EAC-scaled.jpeg
END:VEVENT
END:VCALENDAR