BEGIN:VCALENDAR
VERSION:2.0
PRODID:-//Workshop on Wheels Mobile Metal Lab &amp; Show · Northeast Minneapolis - ECPv6.15.18//NONSGML v1.0//EN
CALSCALE:GREGORIAN
METHOD:PUBLISH
X-ORIGINAL-URL:https://wowmobilemetallab.com
X-WR-CALDESC:Events for Workshop on Wheels Mobile Metal Lab &amp; Show · Northeast Minneapolis
REFRESH-INTERVAL;VALUE=DURATION:PT1H
X-Robots-Tag:noindex
X-PUBLISHED-TTL:PT1H
BEGIN:VTIMEZONE
TZID:America/Chicago
BEGIN:DAYLIGHT
TZOFFSETFROM:-0600
TZOFFSETTO:-0500
TZNAME:CDT
DTSTART:20220313T080000
END:DAYLIGHT
BEGIN:STANDARD
TZOFFSETFROM:-0500
TZOFFSETTO:-0600
TZNAME:CST
DTSTART:20221106T070000
END:STANDARD
BEGIN:DAYLIGHT
TZOFFSETFROM:-0600
TZOFFSETTO:-0500
TZNAME:CDT
DTSTART:20230312T080000
END:DAYLIGHT
BEGIN:STANDARD
TZOFFSETFROM:-0500
TZOFFSETTO:-0600
TZNAME:CST
DTSTART:20231105T070000
END:STANDARD
BEGIN:DAYLIGHT
TZOFFSETFROM:-0600
TZOFFSETTO:-0500
TZNAME:CDT
DTSTART:20240310T080000
END:DAYLIGHT
BEGIN:STANDARD
TZOFFSETFROM:-0500
TZOFFSETTO:-0600
TZNAME:CST
DTSTART:20241103T070000
END:STANDARD
END:VTIMEZONE
BEGIN:VEVENT
DTSTART;TZID=America/Chicago:20230805T100000
DTEND;TZID=America/Chicago:20230805T170000
DTSTAMP:20260421T105409
CREATED:20230719T230437Z
LAST-MODIFIED:20230719T230437Z
UID:1847-1691229600-1691254800@wowmobilemetallab.com
SUMMARY:Powderhorn Art Fair
DESCRIPTION:Get on the bus and create your Souvenir Artifact –\na small sculpture\, pendant\, pin\, bolo tie and more……\nChoose from a selection of castings (found\, sculpted\, natural or 3d printed objects) and pour lead-free pewter  into the mold.  Attach a small base\, wearable hardware or keep it as a small sculpture/pocket toy.  Ages 5+. No experience necessary. $10-20.00. \n  \nThe Powderhorn Art Fair will celebrate its 32nd anniversary in August 2023. Don’t miss your chance to shop with over 150 artist exhibitors from across the USA representing 20 mediums.  The Powderhorn Art Fair offers a vibrant selection of high-quality artwork with pieces for every kind of buyer.  Find the next piece for your collection\, and enjoy food\, drinks\, entertainment\, and activities for all ages.
URL:https://wowmobilemetallab.com/event/powderhorn-art-fair/2023-08-05/
LOCATION:Powderhorn Park\, 3400 15th Avenue South\, Minneapolis\, MN\, 55407\, United States
CATEGORIES:Art-Object Making
ATTACH;FMTTYPE=image/png:https://wowmobilemetallab.com/wp-content/uploads/2023/07/p.png
END:VEVENT
END:VCALENDAR