BEGIN:VCALENDAR
VERSION:2.0
PRODID:-//Workshop on Wheels Mobile Metal Lab &amp; Show · Northeast Minneapolis - ECPv6.15.18//NONSGML v1.0//EN
CALSCALE:GREGORIAN
METHOD:PUBLISH
X-ORIGINAL-URL:https://wowmobilemetallab.com
X-WR-CALDESC:Events for Workshop on Wheels Mobile Metal Lab &amp; Show · Northeast Minneapolis
REFRESH-INTERVAL;VALUE=DURATION:PT1H
X-Robots-Tag:noindex
X-PUBLISHED-TTL:PT1H
BEGIN:VTIMEZONE
TZID:America/Chicago
BEGIN:DAYLIGHT
TZOFFSETFROM:-0600
TZOFFSETTO:-0500
TZNAME:CDT
DTSTART:20220313T080000
END:DAYLIGHT
BEGIN:STANDARD
TZOFFSETFROM:-0500
TZOFFSETTO:-0600
TZNAME:CST
DTSTART:20221106T070000
END:STANDARD
BEGIN:DAYLIGHT
TZOFFSETFROM:-0600
TZOFFSETTO:-0500
TZNAME:CDT
DTSTART:20230312T080000
END:DAYLIGHT
BEGIN:STANDARD
TZOFFSETFROM:-0500
TZOFFSETTO:-0600
TZNAME:CST
DTSTART:20231105T070000
END:STANDARD
BEGIN:DAYLIGHT
TZOFFSETFROM:-0600
TZOFFSETTO:-0500
TZNAME:CDT
DTSTART:20240310T080000
END:DAYLIGHT
BEGIN:STANDARD
TZOFFSETFROM:-0500
TZOFFSETTO:-0600
TZNAME:CST
DTSTART:20241103T070000
END:STANDARD
END:VTIMEZONE
BEGIN:VEVENT
DTSTART;TZID=America/Chicago:20230729T100000
DTEND;TZID=America/Chicago:20230729T180000
DTSTAMP:20260423T073408
CREATED:20230719T222452Z
LAST-MODIFIED:20230719T222727Z
UID:1837-1690624800-1690653600@wowmobilemetallab.com
SUMMARY:Loring Park Art Festival
DESCRIPTION:Enjoy a beautiful day in the park.\nGet on the bus and create your Souvenir Artifact – small sculpture\, pendant\, pin\, bolo tie and more.\nChoose from a selection of castings (found\, sculpted\, natural or 3d printed objects) and pour lead-free pewter  into the mold.  Attach a small base\, wearable hardware or keep it as a small sculpture/pocket toy.  Ages 5+. No experience necessary. $10-20.00. \nThe squirrels of the park are honored to be sharing their featured food as a Souvenir Artifact cast in metal! \nAn urban oasis of art and culture.\nYou are invited to Loring Park for one of the best weekends of the summer!  Each year\, 140 artists are selected to share their work intents throughout the park. Fine artists and craftspeople come from all over the United States to share their wares with you. The jury strives to present a rich variety of styles and art forms\, including jewelry\, printmaking\, glass\, fiber\, photography\, clay\, painting\, drawing\, sculpture\, wood working\, mixed media. There is sure to be something of interest for everyone! \nUse these links below to get to and around the park\, learn about artists in advance\, find the schedule for performing arts and children’s activities and drool over the amazing food truck options. \n\nPlan your stroll\, and find your favorite artists ahead of time with the list of 2023 juried Artists. The list for 2022 Artists will be updated in April following the jury selection.\nFirst time to Loring Park? Consult our maps and our guide to transportation and parking.\nCome hungry! You’ll see why when you check out the tasty food our culinary partners are cooking up.\nVisit the Fulton Beer Garden for a summery brew.
URL:https://wowmobilemetallab.com/event/loring-park-art-festival/2023-07-29/
LOCATION:Loring Park\, 1382 Willow Street\, Minneapolis\, 55403
CATEGORIES:Art-Object Making
ATTACH;FMTTYPE=image/jpeg:https://wowmobilemetallab.com/wp-content/uploads/2023/07/IMG_1101.jpg
END:VEVENT
END:VCALENDAR