BEGIN:VCALENDAR
VERSION:2.0
PRODID:-//Workshop on Wheels Mobile Metal Lab &amp; Show · Northeast Minneapolis - ECPv6.15.18//NONSGML v1.0//EN
CALSCALE:GREGORIAN
METHOD:PUBLISH
X-WR-CALNAME:Workshop on Wheels Mobile Metal Lab &amp; Show · Northeast Minneapolis
X-ORIGINAL-URL:https://wowmobilemetallab.com
X-WR-CALDESC:Events for Workshop on Wheels Mobile Metal Lab &amp; Show · Northeast Minneapolis
REFRESH-INTERVAL;VALUE=DURATION:PT1H
X-Robots-Tag:noindex
X-PUBLISHED-TTL:PT1H
BEGIN:VTIMEZONE
TZID:America/Chicago
BEGIN:DAYLIGHT
TZOFFSETFROM:-0600
TZOFFSETTO:-0500
TZNAME:CDT
DTSTART:20210314T080000
END:DAYLIGHT
BEGIN:STANDARD
TZOFFSETFROM:-0500
TZOFFSETTO:-0600
TZNAME:CST
DTSTART:20211107T070000
END:STANDARD
BEGIN:DAYLIGHT
TZOFFSETFROM:-0600
TZOFFSETTO:-0500
TZNAME:CDT
DTSTART:20220313T080000
END:DAYLIGHT
BEGIN:STANDARD
TZOFFSETFROM:-0500
TZOFFSETTO:-0600
TZNAME:CST
DTSTART:20221106T070000
END:STANDARD
BEGIN:DAYLIGHT
TZOFFSETFROM:-0600
TZOFFSETTO:-0500
TZNAME:CDT
DTSTART:20230312T080000
END:DAYLIGHT
BEGIN:STANDARD
TZOFFSETFROM:-0500
TZOFFSETTO:-0600
TZNAME:CST
DTSTART:20231105T070000
END:STANDARD
END:VTIMEZONE
BEGIN:VEVENT
DTSTART;TZID=America/Chicago:20221104T180000
DTEND;TZID=America/Chicago:20221104T220000
DTSTAMP:20260423T094419
CREATED:20220930T181055Z
LAST-MODIFIED:20221010T185113Z
UID:1674-1667584800-1667599200@wowmobilemetallab.com
SUMMARY:Open Casket Weekend - Cast a Casket and More!
DESCRIPTION:CASKET ARTS PRESENTS OPEN CASKET\nTHE PREMIER OPEN STUDIO EVENT OF THE YEAR\nNovember 4 – 6\, 2022     Friday 5-10pm • Saturday 10am – 6pm • Sunday 12-5pm\nSee below for performance and workshop schedules. \nCASKET ARTS FACTORY + SCULPTURE QUAD \nFriday 6-10pm\nMetal Pour Workshop – Light Up the Night!\nSand Mold Direct Carve Cast Aluminum Caskets\nLearn how to carve imagery\, designs\, words into a sand mold of a casket form.  Choose from imagery and ideas here or create your own (molds are 4″x11″ approx). Then\, learn how to pour aluminum from a crucible furnace into the mold\, file/grind/polish your casting and colored inks are optional.  Ages 9 + up. 8 participant limit. $40.00 per mold. \nNE Sculpture Gallery Factory\nOpening reception for Jane Powers\, Future Seeps into Now.\nBonfire\, food truck\, music by local punk band Surly Grrls and a fire performance by Singed Nipples. \nSaturday 10am-6pm\nCabinet of Curious Castings – Casting Away the Day……\nGet on the bus and choose a mold or two – butterfly\, teeth\, chrysalis\, sea monkey – to create your small sculpture\, necklace\, pin\, pendant\, bolo tie\, etc.  Lead-free pewter into small silicone molds. All ages. 15-30 minutes. $10-20.00. \nNE Sculpture Gallery Factory\nOpening reception for Jane Powers\, Future Seeps into Now.\nMusic\, food truck and bonfire. \nCASKET ARTS BUILDING + THE CARRIAGE HOUSE\nNovember 4 – 6\, 2022     Friday 5-10pm • Saturday 10am – 6pm • Sunday 12-5pm\nJoin us for a weekend of art\, craft\, food\, and fun\, as our talented tenant artists invite you into their studios to see all of their amazing work. You’ll find paintings\, prints\, jewelry\, sculpture\, textiles\, ceramics\, photography\, woodworking\, furniture\, gifts\, and more. Take in some art and maybe even take some home with you!  This event is free and family-friendly.\n681 17th Ave NE\, Minneapolis\, MN 55413 \n 
URL:https://wowmobilemetallab.com/event/casket-arts-buildings-present-open-casket/2022-11-04/
LOCATION:Casket Arts Sculpture Quad Parking Lot\, 1720 Northeast Madison Street\, Minneapolis\, MN\, 55413\, United States
CATEGORIES:Classes
ATTACH;FMTTYPE=image/jpeg:https://wowmobilemetallab.com/wp-content/uploads/2022/09/opencasket-scaled.jpeg
END:VEVENT
END:VCALENDAR